BEGIN:VCALENDAR
VERSION:2.0
PRODID:icalendar-ruby
CALSCALE:GREGORIAN
METHOD:PUBLISH
BEGIN:VEVENT
DTSTAMP:20260424T162524Z
UID:414-788320@pleasanthill.tithelysetup5.com
DTSTART:20260831T230000Z
DTEND:20260901T000000Z
CLASS:PUBLIC
CREATED:20260424T094458
DESCRIPTION:A Bible study on the Gospel according to Matthew begins Monday\
 , September 15 at 7 p.m. in the PHUMC Café\n\nJoin Pastor Pete for a week
 ly journey through the Gospel according to Matthew. Often called the “te
 aching Gospel\,” Matthew highlights Jesus as the promised Messiah and ma
 ster teacher who fulfills the Old Testament while pointing us toward the K
 ingdom of Heaven.\n\nWithin its pages\, we encounter the Sermon on the Mou
 nt\, the Great Commission\, and parables that continue to shape Christian 
 life and discipleship today.\n\nCome discover how Matthew’s witness both
  grounds us in faith and challenges us to live more fully as followers of 
 Christ. Sign up at https://phumcsc.link/MatthewStudy
LAST-MODIFIED:20260424T094458
LOCATION:FLC Cafe
SUMMARY:Monday Bible Study
URL;VALUE=URI:https://pleasanthill.tithelysetup5.com/events/monday-bible-st
 udy/2026-08-31
ATTACH;FILENAME=matthewstudy01ti.jpg;FMTTYPE=image/jpeg:https://dq5pwpg1q8r
 u0.cloudfront.net/2025/09/03/18/51/02/daea10cc-9474-422c-82d7-c9337130b51b
 /matthewstudy01ti.jpg
END:VEVENT
END:VCALENDAR
