BEGIN:VCALENDAR
VERSION:2.0
PRODID:icalendar-ruby
CALSCALE:GREGORIAN
METHOD:PUBLISH
BEGIN:VEVENT
DTSTAMP:20260421T032723Z
UID:184-774940@pleasanthill.tithelysetup5.com
DTSTART:20261027T140000Z
DTEND:20261027T150000Z
CLASS:PUBLIC
CREATED:20260420T193850
DESCRIPTION:You can be part of a team meeting every Tuesday at 10 a.m. in t
 he library for about an hour to offer intercessory prayer for others. This
  group meets to pray for God's Kingdom purposes and for God's will to be d
 one in the lives of God's people\, the church\, and the world. They includ
 e prayer requests that come from a variety of sources. The primary focus i
 s on praying for the needs of those beyond the group members. \n\nThe grou
 p is known as the Prayer Team. You are welcome to join us any Tuesday you 
 can\, and offer what you can\, and see how your prayer life might develop 
 to be a blessing to others.\n\nContact Pastor Pete\, Meta Smith or Barbara
  Ramsey or email YouBelong@pleasanthillmethodist with questions or for mor
 e information.
LAST-MODIFIED:20260420T193850
LOCATION:Pleasant Hill UMC - Library
SUMMARY:Prayer Team
URL;VALUE=URI:https://pleasanthill.tithelysetup5.com/events/prayer-team/202
 6-10-27
ATTACH;FILENAME=intercessoryprayer01ti.jpg;FMTTYPE=image/jpeg:https://dq5pw
 pg1q8ru0.cloudfront.net/2023/08/22/11/35/52/a1e08438-4721-47a9-8c57-b80635
 48097f/intercessoryprayer01ti.jpg
END:VEVENT
END:VCALENDAR
